BEGIN:VCALENDAR
VERSION:2.0
PRODID:-//Aldon D. Morris - ECPv6.15.20//NONSGML v1.0//EN
CALSCALE:GREGORIAN
METHOD:PUBLISH
X-ORIGINAL-URL:https://aldondmorris.com
X-WR-CALDESC:Events for Aldon D. Morris
REFRESH-INTERVAL;VALUE=DURATION:PT1H
X-Robots-Tag:noindex
X-PUBLISHED-TTL:PT1H
BEGIN:VTIMEZONE
TZID:UTC
BEGIN:STANDARD
TZOFFSETFROM:+0000
TZOFFSETTO:+0000
TZNAME:UTC
DTSTART:20180101T000000
END:STANDARD
END:VTIMEZONE
BEGIN:VEVENT
DTSTART;TZID=UTC:20190417T080000
DTEND;TZID=UTC:20190420T170000
DTSTAMP:20260420T172830
CREATED:20190106T222632Z
LAST-MODIFIED:20190107T150421Z
UID:369-1555488000-1555779600@aldondmorris.com
SUMMARY:2019 Midwest Sociological Society Annual Meeting: Plenary on D.E.B. DuBois
DESCRIPTION:2019 Midwest Sociological Society Annual Meeting \nTheme & Call for Participants\nApril 17-20\, 2019 \nChicago Hyatt Regency\, Downtown in the Loop \n  \nQUEERING/QUERYING BODIES \nBodies are central to social life and as a consequence they have been a site of sociological inquiry for more than 30 years. More recently queer theory\, methods and embodiment studies have extended and deepened sociologists’ understanding of bodies and the people who inhabit them. Disability\, however\, remains at the margins of sociological thinking and research\, rarely making its way into intersectional theorizing or prominent publications. Thus\, the 2019 Midwest Sociological Society Meetings are dedicated to exploring the marginalization\, social construction and the many meanings and consequences associated with bodies. \nThe Conference Program Committee encourages participants to think of bodies in the broadest of terms in order for this conference to be inclusive. Potential topics include the body politic\, the policing and mass incarceration of particular types of bodies\, the killing of Black and Brown people\, corporeal variation\, bodies of knowledge and epistemology\, global bodies\, bodily discipline\, trafficking in bodies\, bodily performance\, sexual harassment\, colonization and decolonization of bodies\, identity\, sexuality\, embodiment\, bodily technology\, the politics of bodies\, bodily representation\, migration\, bodily trauma\, and sex work. We especially seek to highlight contemporary scholarship on Disability and Queer\, Non-binary and Trans people. Given the expansiveness of the topics\, everyone can find a place in the Program. A diversity of theoretical\, epistemological and methodological approaches are encouraged. \nThe conference formats will vary from conventional paper-reading sessions to more creative approaches which are increasingly enhancing participants’ experience. Examples include Innovative Presentations powered by PechaKucha\, 3-Minute Theses\, Democracy Cafes and TEDx-like Lightning Talks. In all sessions and formats\, the primary emphasis will be on dialogue. \nAldon Morris of Northwestern University will provide a plenary on W.E.B. Du Bois. Tey Meadow of Columbia University’s plenary will focus on her research on Trans children. A third plenary will focus specifically on Disability. \nPlease join us April 17-20\, 2019 at the Chicago Hyatt Regency in the Loop. Organize a session\, offer a workshop\, share an idea to enhance the conference\, invite your peers\, and exercise your intellectual curiosity. The MSS Annual Meeting has a well-earned reputation for incisive intellectual engagement and Midwestern hospitality. \nWe very much look forward to seeing you in Chicago! \nTom Gerschick\, 2019 Program Chair and President-Elect \nJ. Dalton Stevens\, 2019 Program Associate and Student Director \nRead more about the session types\, theme and other information in the Call for Submissions online. Once the submission portal is open\, you will receive an email. The expected opening date is Saturday\, September 1.
URL:https://aldondmorris.com/event/2019-midwest-sociological-society-annual-meeting-plenary-on-d-e-b-dubois/
LOCATION:chicago hyatt regency\, 151 East Wacker Drive\, Chicago\, IL\, 60601
END:VEVENT
BEGIN:VEVENT
DTSTART;TZID=UTC:20190228T193000
DTEND;TZID=UTC:20190228T193000
DTSTAMP:20260420T172830
CREATED:20190106T220826Z
LAST-MODIFIED:20190107T150547Z
UID:362-1551382200-1551382200@aldondmorris.com
SUMMARY:W.E.B. Du Bois at the Center: From Science\, Civil Rights Movement to Black Lives Matter
DESCRIPTION:Mary Ann and John D. Mangels Lecturer\nLeon Forrest Professor of Sociology and African American Studies at Northwestern University \nFebruary 28\, 2019 | 7:30 p.m.\nKane Hall\, room 120 \nRegister here!\nThis event is free and open to the public. \nW.E.B. Du Bois at the Center: From Science\, Civil Rights Movement to Black Lives Matter \nW.E.B. Du Bois was one of a handful of 20th century scholars with a sustained global impact on sociological\, literary\, and political thought. In this talk\, Dr. Morris will draw on evidence from his award-winning book\, The Scholar Denied\, to demonstrate that Du Bois was the founding father of scientific sociology in the United States. This talk will explore the methods Du Bois pioneered that laid the foundations for subsequent ground-breaking empirical studies of racial inequality and the role of black activism to overthrow racial oppression.\nAbout Aldon Morris \nAldon Morris is the Leon Forrest Professor of Sociology and African American Studies at Northwestern University. Morris is the author of the award winning book\, The Origins of the Civil rights Movement. He is co-editor of Frontiers in Social Movement Theory\, and Opposition Consciousness. His recent book\, The Scholar Denied: W. E. B. Du Bois and the Birth of Modern Sociology\, was published in 2015 by the University of California Press. Morris has received numerous prestigious awards for his works and distinguished career. \nSponsoring Departments\nUW Graduate School\nDepartment of American Ethnic Studies\nDepartment of Sociology\nSocial & Historical Studies (UW Tacoma)
URL:https://aldondmorris.com/event/w-e-b-du-bois-at-the-center-from-science-civil-rights-movement-to-black-lives-matter/
LOCATION:NY
END:VEVENT
BEGIN:VEVENT
DTSTART;TZID=UTC:20190202T083000
DTEND;TZID=UTC:20190202T143000
DTSTAMP:20260420T172830
CREATED:20190106T205043Z
LAST-MODIFIED:20190106T221430Z
UID:351-1549096200-1549117800@aldondmorris.com
SUMMARY:Critical Conversations: An Interactive Symposium on W. E. B. Du Bois and 21st Century Color Lines
DESCRIPTION:William Edward Burghardt “W. E. B.” Du Bois was born in 1868 and became the nation’s leading social scientist on race\, social inequality\, African-American life and culture\, and the ideology of white supremacy. He famously predicted that “the problem of the twentieth century [would be] the problem of the color line”—a prescient observation that rings truer than ever today\, on the 150th anniversary of Du Bois’s birth. \nWith this symposium\, Swarthmore College attempts to serve the greater good of Du Bois’s vision via deep listening and democratic voices offered in mutual exchange and respect. This event is co-sponsored by the Cooper Foundation and the Petrucci Family Foundation. \nContinental breakfast\nTime: 8:30 a.m.\nLocation: Lang Performing Arts Center Lobby \n\nKeynote Address\nKeynote address by Aldon Morris\, the Leon Forrest Professor of Sociology and African American Studies at Northwestern University\, and author of The Scholar Denied: W.E.B. Du Bois and the Birth of Modern Sociology \nTime: 10–11 a.m.\nLocation: Lang Performing Arts Center\, Cinema \n\nGroup Conversations\nFacilitated small group conversations on a variety of difficult topics\, learning deep listening skills and strategies for conflicted conversations with good outcomes \nTime: 11 a.m.–12:30 p.m.\nLocations: Various classrooms in Kohlberg Hall \n\nLuncheon and discussion\nTime: 12:30 p.m.–2 p.m.\nLocation: Kohlberg Hall\, Scheuer Room
URL:https://aldondmorris.com/event/test/
LOCATION:Lang Performing Arts Center and Kohlberg​\, Swarthmore College\, 500 College Avenue\, Swarthmore\, PA\, 19081
ORGANIZER;CN="":MAILTO:Swarthmore College, 500 College Avenue, Swarthmore, PA 19081
END:VEVENT
BEGIN:VEVENT
DTSTART;TZID=UTC:20190120T150000
DTEND;TZID=UTC:20190120T150000
DTSTAMP:20260420T172830
CREATED:20190107T151909Z
LAST-MODIFIED:20190120T212208Z
UID:374-1547996400-1547996400@aldondmorris.com
SUMMARY:WYNC & Apollo Theater: Unsung Champions of Civil Rights from MLK to Today
DESCRIPTION:The Apollo Theater and WNYC are partnering for the sixth year to present WNYC’s 13th Annual Dr. Martin Luther King\, Jr. Day celebration\, Unsung Champions of Civil Rights from MLK to Today as part of the Apollo’s Uptown Hall series. WNYC’s Peabody Award-winning host Brian Lehrerand Jami Floyd\, local host of All Things Considered\, will moderate meaningful conversations examining Dr. King’s legacy and its impact on modern social justice movements. \nThrough a lively mix of one-on-one interviews and panels featuring notable guests\, we will commemorate the legacy of Dr. King. Unsung Champions of Civil Rights from MLK to Today will also place special emphasis on some of the lesser-known names who\, nevertheless\, were crucial in making both the Civil Rights Movement of the 1960s and today’s social issue movements successful. The “unsung” will include women\, members of the LGBTQ community and others who didn’t receive warranted\, timely\, or lasting recognition. \nApollo Uptown Halls are free and open to the public\, but tickets are required for entry. Seating is first come\, first served. \nAdditional tickets will be released on Monday\, January 14 at 10 AM. \n#ApolloUptownHall \nReserve Tickets
URL:https://aldondmorris.com/event/apollo-theater-unsung-champions-of-civil-rights-from-mlk-to-today/
LOCATION:Apollo Theater\, 253 W 125th St\, New York\, NY\, 10027
END:VEVENT
END:VCALENDAR